BEGIN:VCALENDAR
VERSION:2.0
PRODID:-// - ECPv5.8.1//NONSGML v1.0//EN
CALSCALE:GREGORIAN
METHOD:PUBLISH
X-ORIGINAL-URL:https://www.schuetzen-am-gebirge.at
X-WR-CALDESC:Veranstaltungen für 
BEGIN:VTIMEZONE
TZID:Europe/Berlin
BEGIN:DAYLIGHT
TZOFFSETFROM:+0100
TZOFFSETTO:+0200
TZNAME:CEST
DTSTART:20260329T010000
END:DAYLIGHT
BEGIN:STANDARD
TZOFFSETFROM:+0200
TZOFFSETTO:+0100
TZNAME:CET
DTSTART:20261025T010000
END:STANDARD
END:VTIMEZONE
BEGIN:VEVENT
DTSTART;VALUE=DATE:20260307
DTEND;VALUE=DATE:20260308
DTSTAMP:20260422T043358
CREATED:20260105T124505Z
LAST-MODIFIED:20260302T095220Z
UID:6578-1772841600-1772927999@www.schuetzen-am-gebirge.at
SUMMARY:Themennachmittag "Frauengesundheit" im Pfarrheim\, 15-17.30 Uhr - Gesundes Dorf
DESCRIPTION:
URL:https://www.schuetzen-am-gebirge.at/event/themennachmittag-frauengesundheit-im-g-treff-14-17-uhr-gesundes-dorf/
END:VEVENT
END:VCALENDAR