BEGIN:VCALENDAR
VERSION:2.0
PRODID:-// - ECPv5.8.1//NONSGML v1.0//EN
CALSCALE:GREGORIAN
METHOD:PUBLISH
X-ORIGINAL-URL:https://www.schuetzen-am-gebirge.at
X-WR-CALDESC:Veranstaltungen für 
BEGIN:VTIMEZONE
TZID:Europe/Berlin
BEGIN:DAYLIGHT
TZOFFSETFROM:+0100
TZOFFSETTO:+0200
TZNAME:CEST
DTSTART:20260329T010000
END:DAYLIGHT
BEGIN:STANDARD
TZOFFSETFROM:+0200
TZOFFSETTO:+0100
TZNAME:CET
DTSTART:20261025T010000
END:STANDARD
END:VTIMEZONE
BEGIN:VEVENT
DTSTART;VALUE=DATE:20260314
DTEND;VALUE=DATE:20260315
DTSTAMP:20260422T105745
CREATED:20260105T124537Z
LAST-MODIFIED:20260105T124537Z
UID:6580-1773446400-1773532799@www.schuetzen-am-gebirge.at
SUMMARY:Flurreinigung\, 8.30 bis 12.00 Uhr - Puch Maxi Klub
DESCRIPTION:
URL:https://www.schuetzen-am-gebirge.at/event/flurreinigung-8-30-bis-12-00-uhr-puch-maxi-klub/
END:VEVENT
END:VCALENDAR