BEGIN:VCALENDAR
VERSION:2.0
PRODID:-// - ECPv5.8.1//NONSGML v1.0//EN
CALSCALE:GREGORIAN
METHOD:PUBLISH
X-ORIGINAL-URL:https://www.schuetzen-am-gebirge.at
X-WR-CALDESC:Veranstaltungen für 
BEGIN:VTIMEZONE
TZID:Europe/Berlin
BEGIN:DAYLIGHT
TZOFFSETFROM:+0100
TZOFFSETTO:+0200
TZNAME:CEST
DTSTART:20260329T010000
END:DAYLIGHT
BEGIN:STANDARD
TZOFFSETFROM:+0200
TZOFFSETTO:+0100
TZNAME:CET
DTSTART:20261025T010000
END:STANDARD
END:VTIMEZONE
BEGIN:VEVENT
DTSTART;VALUE=DATE:20260110
DTEND;VALUE=DATE:20260111
DTSTAMP:20260421T234229
CREATED:20251027T081524Z
LAST-MODIFIED:20251027T085848Z
UID:6512-1768003200-1768089599@www.schuetzen-am-gebirge.at
SUMMARY:Christbaumabholaktion\, ab 13 Uhr - JVP Schützen am Gebirge
DESCRIPTION:
URL:https://www.schuetzen-am-gebirge.at/event/christbaumabholaktion-ab-13-uhr-jvp-schuetzen-am-gebirge/
END:VEVENT
END:VCALENDAR